BEGIN:VCALENDAR
VERSION:2.0
PRODID:-//eventon.com NONSGML v1.0//EN
CALSCALE:GREGORIAN
METHOD:PUBLISH
BEGIN:VEVENT
UID:69e4c674c0e39
DTSTAMP:20260419T121132Z
DTSTART:20260417T190000Z
DTEND:20260417T210000Z
LOCATION:True Love Missionary Baptist Church 715 E Wallace St\,  Fort wayne\,  IN 46803
SUMMARY:Friday Night Fire
DESCRIPTION:Friday Night Fire\nhttps://rnp941.org/events/friday-night-fire/
URL:https://rnp941.org/events/friday-night-fire/
END:VEVENT
END:VCALENDAR