BEGIN:VCALENDAR
VERSION:2.0
PRODID:-//eventon.com NONSGML v1.0//EN
CALSCALE:GREGORIAN
METHOD:PUBLISH
BEGIN:VEVENT
UID:69e9de439179f
DTSTAMP:20260423T085427Z
DTSTART:20260418T140000Z
DTEND:20260418T190000Z
LOCATION:New Covenent Worship Center 3420 E. Paulding Road\,  Fort Wayne\,  IN 46816\,  USA
SUMMARY:DevelopHer: Dominate Your Confidence Women's Symposium
DESCRIPTION:Normal 0 false false false false EN-US ZH-CN X-NONE /* Style De
 finitions */ table.MsoNormalTable {mso-style-name:&#8221;Table Normal&#8221
 ;; mso-tstyle-rowband-size:0; mso-tstyle-colband-size:0; mso-style-noshow:y
 es; mso-style-priority:99; mso-style-parent:&#8221;&#8221;; mso-padding-alt
 :0in 5.4pt 0in 5.4pt; mso-para-margin-top:0in; mso-para-margin-right:0in; m
 so-para-margin-bottom:8.0pt; mso-para-margin-left:0in; line-height:115%; ms
 o-pagination:widow-orphan; font-size:12.0pt; font-family:&#8221;Aptos&#8221
 ;\, sans-serif; mso-ascii-font-family:Aptos; mso-ascii-theme-font:minor-lat
 in; mso-hansi-font-family:Aptos; mso-hansi-theme-font:minor-latin; mso-font
 -kerning:1.0pt; mso-ligatures:standardcontextual;} Normal 0 false false fal
 se false EN-US ZH-CN X-NONE /* Style[..]\nhttps://rnp941.org/events/develop
 her-dominate-your-confidence-womens-symposium/
URL:https://rnp941.org/events/developher-dominate-your-confidence-womens-symposium/
END:VEVENT
END:VCALENDAR