BEGIN:VCALENDAR
VERSION:2.0
PRODID:-//eventon.com NONSGML v1.0//EN
CALSCALE:GREGORIAN
METHOD:PUBLISH
BEGIN:VEVENT
UID:69e4d86b58aa6
DTSTAMP:20260419T132811Z
DTSTART:20260404T120000Z
DTEND:20260404T140000Z
LOCATION:Wayne Township Trustee Office 320 E SUPERIOR ST\,  FORT WAYNE\,  Indiana 46802\,  US
SUMMARY:Hoppy Memories at the Wayne Township Trustee Office
DESCRIPTION:This is a fun\,  family event giving community children the opp
 ortunity to celebrate Easter together with the Bunny and other kids from th
 e community. There will be candy and other treats for your baskets and fun 
 and games to celebrate the season.\nhttps://rnp941.org/events/hoppy-memorie
 s-at-the-wayne-township-trustee-office/
URL:https://rnp941.org/events/hoppy-memories-at-the-wayne-township-trustee-office/
END:VEVENT
END:VCALENDAR