BEGIN:VCALENDAR
VERSION:2.0
PRODID:-//eventon.com NONSGML v1.0//EN
CALSCALE:GREGORIAN
METHOD:PUBLISH
BEGIN:VEVENT
UID:69e732ba6628e
DTSTAMP:20260421T081802Z
DTSTART:20260509T150000Z
DTEND:20260509T173000Z
LOCATION:
SUMMARY:Crowning Glory Mother's Day Brunch
DESCRIPTION:This event is a celebration in honor of Black Women and their &
 #8220;church hats&#8221;.&nbsp; Learn some of the history\,  enjoy good foo
 d\,  song and spoken word.&nbsp; Your favorite headwear (hats\,  fascinator
 s\,  wraps) is highly encouraged.&nbsp; We would also like attendees to bri
 ng a photo of the loved one they want[..]\nhttps://rnp941.org/events/crowni
 ng-glory-mothers-day-brunch/
URL:https://rnp941.org/events/crowning-glory-mothers-day-brunch/
END:VEVENT
END:VCALENDAR