BEGIN:VCALENDAR
VERSION:2.0
PRODID:-//eventon.com NONSGML v1.0//EN
CALSCALE:GREGORIAN
METHOD:PUBLISH
BEGIN:VEVENT
UID:69e4c5f8ce636
DTSTAMP:20260419T120928Z
DTSTART:20260418T233000Z
DTEND:20260419T013000Z
LOCATION:Rodeheaver Auditorium 901 Park Ave\,  Winona Lake\,  Indiana 46590\,  United States
SUMMARY:Celebrate and Sing: Fantastical
DESCRIPTION:Celebrate and Sing: Fantastical! will be held on April 18 at 7:
 30 PM in Rodeheaver Auditorium\,  Winona Lake. This family-friendly concert
  celebrates the wonder\,  mystery\,  and power of imagination through music
 . Delightful selections of music will be performed by Vocal Vision\,  Vocal
  Vibes\,  Vocal Vision Youth\,  Bremen Children’s Choir\,  Grace[..]\nhtt
 ps://rnp941.org/events/celebrate-and-sing-fantastical/
URL:https://rnp941.org/events/celebrate-and-sing-fantastical/
END:VEVENT
END:VCALENDAR