BEGIN:VCALENDAR
VERSION:2.0
PRODID:-//eventon.com NONSGML v1.0//EN
CALSCALE:GREGORIAN
METHOD:PUBLISH
BEGIN:VEVENT
UID:69e9deaedacee
DTSTAMP:20260423T085614Z
DTSTART:20260415T190000Z
DTEND:20260415T210000Z
LOCATION:
SUMMARY:CeCe Winans' More Than This Tour
DESCRIPTION:CeCe Winans&#8217; More Than This Tour   CeCe Winans&#8217; Mo
 re Than This Tour will be one of the most comprehensive tours of CeCe&#821
 7;s entire career! Each night will feature the worship moments you have com
 e to expect\,  &#8220;Goodness of God\, &#8221; &#8220;Believe For It&#8221
 ; and &#8216;Alabaster Box&#8221;; while also introducing you to[..]\nhttps
 ://rnp941.org/events/cece-winans-more-than-this-tour/
URL:https://rnp941.org/events/cece-winans-more-than-this-tour/
END:VEVENT
END:VCALENDAR