BEGIN:VCALENDAR
VERSION:2.0
PRODID:-//eventon.com NONSGML v1.0//EN
CALSCALE:GREGORIAN
METHOD:PUBLISH
BEGIN:VEVENT
UID:69e4c79d1a989
DTSTAMP:20260419T121629Z
DTSTART:20260711T093000Z
DTEND:20260711T143000Z
LOCATION:Greater Christ Temple Church 2940 S. Anthony Blvd\,  Fort Wayne\,  IN 46806\,  USA
SUMMARY:Praise Dancers\,  Mimes\,  and Flaggers Seminar and Open Discussions
DESCRIPTION:For registration and payment&nbsp; $FSATROM cash app&nbsp;\nhtt
 ps://rnp941.org/events/praise-dancers-mimes-and-flaggers-seminar-and-open-d
 iscussions/
URL:https://rnp941.org/events/praise-dancers-mimes-and-flaggers-seminar-and-open-discussions/
END:VEVENT
END:VCALENDAR