BEGIN:VCALENDAR
VERSION:2.0
PRODID:-//eventon.com NONSGML v1.0//EN
CALSCALE:GREGORIAN
METHOD:PUBLISH
BEGIN:VEVENT
UID:69e4c602abad1
DTSTAMP:20260419T120938Z
DTSTART:20260405T100000Z
DTEND:20260405T120000Z
LOCATION:Kingdom First Church 1101 McKinnie Ave\,  Fort Wayne\,  IN 46806\,  USA
SUMMARY:Easter Program & Lunch
DESCRIPTION:Kingdom First Church- Fort Wayne presents &#8220;The Third Day&
 #8221; an Easter Program on Easter Sunday at 10:00am with a gourmet lunch t
 o follow.&nbsp; The program will include amazing songs\,  skits\,  dances a
 nd a spoken word plus the most important part which is learning more about 
 Jesus and all He has[..]\nhttps://rnp941.org/events/easter-program-lunch/
URL:https://rnp941.org/events/easter-program-lunch/
END:VEVENT
END:VCALENDAR