BEGIN:VCALENDAR
VERSION:2.0
PRODID:-//eventon.com NONSGML v1.0//EN
CALSCALE:GREGORIAN
METHOD:PUBLISH
BEGIN:VEVENT
UID:69e74f202af86
DTSTAMP:20260421T101912Z
DTSTART:20260410T190000Z
DTEND:20260410T220000Z
LOCATION:Zurcher Auditorium Merillat Centre for the Arts 520 Lake Street Huntington\,  IN 46750\,  huntington\,  IN 46750\,  United States
SUMMARY:Outpour Worship Ft. Joe L Barnes and DOE!
DESCRIPTION:Outpour Worship is happening on April 10 at Huntington Universi
 ty\,  featuring Joe L Barnes\,  DOE and City Movement. Joe L Barnes&nbsp;is
  a Grammy-winning American&nbsp;singer-songwriter and worship leader\,  kno
 wn for his impactful work with the contemporary worship collective&nbsp;Mav
 erick City Music. DOE is a Grammy Award winner (2025 Best Contemporary Chri
 stian Music[..]\nhttps://rnp941.org/events/outpour-worship-ft-joe-l-barnes-
 and-doe/
URL:https://rnp941.org/events/outpour-worship-ft-joe-l-barnes-and-doe/
END:VEVENT
END:VCALENDAR