BEGIN:VCALENDAR
VERSION:2.0
PRODID:-//eventon.com NONSGML v1.0//EN
CALSCALE:GREGORIAN
METHOD:PUBLISH
BEGIN:VEVENT
UID:69e7336aae2d2
DTSTAMP:20260421T082058Z
DTSTART:20260307
DTEND:20260308
LOCATION:Kingdom First Church 1101 McKinnie Ave\,  Fort Wayne\,  IN 46806\,  USA
SUMMARY:COMMUNITY RUMMAGE SALE
DESCRIPTION:Community rummage sale in your neighborhood we are selling ever
 ything!! Most items are donation only and other items are priced at low cos
 t: Bikes Strollers Furniture Clothes Housewares Home Decor Office Supplies 
 Rugs And much more!!\nhttps://rnp941.org/events/community-rummage-sale/
URL:https://rnp941.org/events/community-rummage-sale/
END:VEVENT
END:VCALENDAR