BEGIN:VCALENDAR
VERSION:2.0
PRODID:-//eventon.com NONSGML v1.0//EN
CALSCALE:GREGORIAN
METHOD:PUBLISH
BEGIN:VEVENT
UID:69e4d865d33fa
DTSTAMP:20260419T132805Z
DTSTART:20260503T010000Z
DTEND:20260502T190000Z
LOCATION:Johnson County Fairgrounds 250 Fairground St.\,  Franklin\,  IN 46131\,  USA
SUMMARY:Johnson County Garden Celebration
DESCRIPTION:Happiness blooms before your eyes and in your heart at Johnson 
 County’s Garden Celebration May 2 at the fairgrounds in Franklin. Gates o
 pen at 9 a.m.\,  and festivities continue until 3 p.m. Buy annuals\,  peren
 nials and vegetables\,  popular and unique plants\,  garden art\,  and cott
 age-farm products. Pick up some free[..]\nhttps://rnp941.org/events/johnson
 -county-garden-celebration/
URL:https://rnp941.org/events/johnson-county-garden-celebration/
END:VEVENT
END:VCALENDAR