BEGIN:VCALENDAR
VERSION:2.0
PRODID:-//eventon.com NONSGML v1.0//EN
CALSCALE:GREGORIAN
METHOD:PUBLISH
BEGIN:VEVENT
UID:69e4d86c4b333
DTSTAMP:20260419T132812Z
DTSTART:20260413T090000Z
DTEND:20260415T180000Z
LOCATION:
SUMMARY:4th International Conference on Vaccines Research and Development
DESCRIPTION:It is our pleasure to invite all scientists\,  academicians\,  
 young researchers\,  business delegates and students from all over the worl
 d to attend the&nbsp;4th International Conference on Vaccines Research and 
 Development&nbsp;will be held in&nbsp;Paris\,  France&nbsp;during&nbsp;Apri
 l 13-15\,  2026. The topics covered in this event will include Covid-19 Vac
 cine and Development\,  vaccine regulation[..]\nhttps://rnp941.org/events/4
 th-international-conference-on-vaccines-research-and-development/
URL:https://rnp941.org/events/4th-international-conference-on-vaccines-research-and-development/
END:VEVENT
END:VCALENDAR