BEGIN:VCALENDAR
VERSION:2.0
PRODID:-//eventon.com NONSGML v1.0//EN
CALSCALE:GREGORIAN
METHOD:PUBLISH
BEGIN:VEVENT
UID:69e9e9b559072
DTSTAMP:20260423T094317Z
DTSTART:20251218T173000Z
DTEND:20251218T181500Z
LOCATION:Faith United Methodist Church 207 E Dewald St\,  Fort Wayne\,  Indiana 46803\,  United States
SUMMARY:Christmas Dinner and Fellowship
DESCRIPTION:Faith United Methodist Church will be hosting our annual Tradit
 ional Christmas Meal for the community!&nbsp; We will be serving Turkey\,  
 Ham\,  Mashed Potatoes\,  Corn\,  Green Beans\,  Desserts\,  and Drinks. We
  will also be having Christmas Music and fellowship. Come early to assure a
  seat (Meals while supplies last). This is[..]\nhttps://rnp941.org/events/c
 hristmas-dinner-and-fellowship/
URL:https://rnp941.org/events/christmas-dinner-and-fellowship/
END:VEVENT
END:VCALENDAR